{"text_format":"1","workbook":"xlsx","n_sheets":12,"sheets":["入力シート","交付申請書","事業計画書","債権者登録書","概算払理由書","誓約書","実績報告書","事業報告書","補助金支払請求書","変更交付申請書","中止承認申請書","市町等"],"not_rendered":{"charts":0,"images":891,"macros":1,"external_links":0,"defined_names":13,"comments":0,"pivot_tables":0},"unopened":[],"bounds":{"document_bytes":16777216,"sheet_cells":100000,"rows_first":2000,"rows_last":500,"rows_between":2000,"halvings":0,"cell_chars":16384,"cell_head_chars":4096},"cells_cut":0,"cells_raw":0,"read":"whole","date_system":"1900"}

{"sheet":"入力シート","index":0,"n_rows":115,"n_cols":27,"rows_kept":115,"cut":false,"hidden":false,"merged":[[37,4,37,7],[54,8,54,20],[87,7,87,8],[86,16,86,18],[86,19,86,20],[45,14,45,20],[50,8,50,12],[61,4,61,7],[45,4,45,7],[45,8,45,12],[43,4,44,7],[70,12,70,13],[72,12,72,13],[83,19,83,20],[47,8,47,12],[66,8,66,20],[46,4,46,7],[50,4,50,7],[56,4,56,7],[53,4,53,10],[50,17,50,20],[41,4,42,7],[0,0,0,21],[23,23,29,37],[24,8,24,9],[24,11,24,20],[21,4,21,7],[22,4,22,7],[20,4,20,7],[20,8,20,20],[30,4,30,7],[30,8,30,20],[27,8,27,20],[10,4,10,7],[12,4,12,7],[11,4,11,7],[14,4,14,7],[24,4,24,7],[25,4,25,7],[22,8,22,20],[24,3,29,3],[29,14,29,20],[28,8,28,20],[10,8,10,9],[10,11,10,20],[8,0,30,2],[106,11,106,21],[107,6,107,10],[107,17,107,21],[107,11,107,13],[27,4,27,7],[26,8,26,20],[68,12,68,20],[47,4,47,7],[49,4,49,7],[48,4,48,7],[52,4,52,7],[36,8,36,20],[37,8,37,20],[49,17,49,20],[47,17,47,20],[38,4,38,7],[48,8,48,20],[51,8,51,20],[51,4,51,7],[66,0,66,7],[61,8,61,20],[54,4,54,7],[49,8,49,12],[96,0,98,2],[109,11,109,13],[108,11,108,13],[108,20,108,21],[109,20,109,21],[108,18,108,19],[109,18,109,19],[108,15,108,16],[109,15,109,16],[114,15,114,16],[111,11,111,13],[112,11,112,13],[113,11,113,13],[111,15,111,16],[112,15,112,16],[114,11,114,13],[114,20,114,21],[110,18,110,19],[111,18,111,19],[111,20,111,21],[112,20,112,21],[113,20,113,21],[112,18,112,19],[113,18,113,19],[113,15,113,16],[114,18,114,19],[110,20,110,21],[110,11,110,13],[110,15,110,16],[108,0,108,2],[109,0,109,2],[110,0,110,2],[85,2,85,6],[75,2,75,8],[76,4,76,6],[79,4,79,6],[113,0,114,10],[111,0,111,2],[112,0,112,2],[112,7,112,8],[110,9,110,10],[111,9,111,10],[112,9,112,10],[112,4,112,5],[108,7,108,8],[109,7,109,8],[110,7,110,8],[111,7,111,8],[108,9,108,10],[109,9,109,10],[110,4,110,5],[111,4,111,5],[108,4,108,5],[85,7,85,8],[78,4,78,6],[77,4,77,6],[77,7,77,8],[109,4,109,5],[107,3,107,5],[83,4,83,6],[83,7,83,8],[80,2,80,6],[80,7,80,8],[81,4,81,6],[81,7,81,8],[82,4,82,6],[82,7,82,8],[106,0,106,10],[102,5,102,21],[104,5,104,21],[75,13,85,13],[78,19,78,20],[79,19,79,20],[107,14,107,16],[105,0,105,4],[105,11,105,12],[105,7,105,8],[105,9,105,10],[105,5,105,6],[107,0,107,2],[102,0,102,4],[74,1,74,8],[76,7,76,8],[75,14,75,20],[79,7,79,8],[86,4,86,6],[85,19,85,20],[83,16,83,18],[76,16,76,18],[78,16,78,18],[77,19,77,20],[105,15,105,16],[90,12,90,18],[87,16,87,18],[87,19,87,20],[105,13,105,14],[77,16,77,18],[105,17,105,21],[90,19,90,20],[89,14,89,18],[85,14,85,18],[103,1,103,8],[103,10,103,21],[69,0,69,8],[89,19,89,20],[74,0,89,0],[88,13,88,20],[74,13,74,20],[71,4,71,8],[72,0,72,3],[71,0,71,3],[70,0,70,1],[89,7,89,8],[88,1,88,8],[89,2,89,6],[78,7,78,8],[71,14,71,20],[71,12,71,13],[69,12,69,20],[74,12,89,12],[104,0,104,4],[73,0,73,3],[73,12,73,13],[60,4,60,7],[80,14,80,18],[80,19,80,20],[81,16,81,18],[81,19,81,20],[82,16,82,18],[82,19,82,20],[76,19,76,20],[63,4,63,7],[59,0,63,3],[59,4,59,7],[90,1,95,8],[90,0,95,0],[87,4,87,6],[86,7,86,8],[79,16,79,18],[84,4,84,6],[84,16,84,18],[84,7,84,8],[84,19,84,20],[75,1,85,1],[66,26,66,36],[59,8,59,20],[38,8,38,20],[33,8,33,20],[34,8,34,20],[42,14,42,20],[60,26,60,36],[60,8,60,20],[60,22,60,25],[56,8,56,20],[46,8,46,12],[46,17,46,20],[55,8,55,20],[43,8,44,12],[44,14,44,20],[41,8,42,12],[41,18,41,20],[43,18,43,20],[62,8,62,20],[63,8,63,12],[96,22,96,25],[9,3,9,20],[23,3,23,20],[29,4,29,7],[29,8,29,9],[29,11,29,12],[19,4,19,7],[19,8,19,9],[11,8,11,20],[14,8,14,20],[15,6,15,7],[15,8,15,20],[17,8,17,20],[18,8,18,20],[16,6,16,7],[18,6,18,7],[16,8,16,20],[66,22,66,25],[47,23,50,37],[52,8,52,20],[53,11,53,20],[32,22,38,22],[32,23,38,37],[62,4,62,7],[41,0,56,3],[8,3,8,7],[8,8,8,20],[36,4,36,7],[26,4,26,7],[28,4,28,7],[33,4,33,7],[13,4,13,7],[13,8,13,20],[17,6,17,7],[15,4,18,5],[25,8,25,20],[35,4,35,7],[35,8,35,20],[19,11,19,12],[21,8,21,20],[19,14,19,20],[34,4,34,7],[12,8,12,20],[32,0,38,3],[32,4,32,7],[32,8,32,9],[32,11,32,20],[55,4,55,7]]}
["★使用方法"]
["1.着色部分のセルに必要事項を入力してください（水色：交付申請時、オレンジ色：実績報告時）。"]
["2.各様式に入力内容が反映されますので、確認してください。",null,null,null,null,null,null,null,null,null,null,null,null,null,null,null,null,null,null,null,null,null,null,null,null,6]
["3.誤りなどがなければ、必要な様式を印刷し、提出してください。",null,null,null,null,null,null,null,null,null,null,null,null,null,null,null,null,null,null,null,null,null,null,null,null,7]
["注1）入力シートを使わず、直接入力することも可能です。"]
["注2）概算払理由書、実績報告書、事業報告書等では、一部、直接入力が必要な箇所があります。"]
[]
["■申請者情報入力",null,null,null,null,null,null,null,null,null,null,null,null,null,null,null,"↓選択してください"]
["申請者",null,null,"申請者区分",null,null,null,null,null,null,null,null,null,null,null,null,null,null,null,null,null,null,"・一般緑化・校園庭の芝生化・ひろばの芝生化・駐車場の芝生化・建築物の屋上緑化・壁面緑化で申請される方は入力してください。"]
[null,null,null,"団体・法人の場合"]
[null,null,null,null,"郵便番号",null,null,null,null,null,"-"]
[null,null,null,null,"(フリガナ）"]
[null,null,null,null,"住所",null,null,null,null,null,null,null,null,null,null,null,null,null,null,null,null,{"$f":"IF(AND(I13<>\"\",I27<>\"\"),\"エラー：住所が2つ入力されています。\",\"\")","v":""}]
[null,null,null,null,"(フリガナ）"]
[null,null,null,null,"団体等名称"]
[null,null,null,null,"代表者",null,"（フリガナ）",null,null,null,null,null,null,null,null,null,null,null,null,null,null,null,null,"・住民団体や法人等の団体の場合は、こちらを入力してください。"]
[null,null,null,null,null,null,"職名"]
[null,null,null,null,null,null,"（フリガナ）"]
[null,null,null,null,null,null,"氏名",null,null,null,null,null,null,null,null,null,null,null,null,null,null,{"$f":"IF(AND(I19<>\"\",I29<>\"\"),\"エラー：氏名が2つ入力されています。\",\"\")","v":""}]
[null,null,null,null,"電話番号",null,null,null,null,null,"-",null,null,"-"]
[null,null,null,null,"電子メール"]
[null,null,null,"住民団体のみ→","構成員数",null,null,null,null,null,null,null,null,null,null,null,null,null,null,null,null,"名","←","←住民団体の場合のみ、入力してください。"]
[null,null,null,"住民団体のみ→","活動内容",null,null,null,null,null,null,null,null,null,null,null,null,null,null,null,null,null,"←","←住民団体の場合のみ、入力してください。"]
[null,null,null,"個人の場合",null,null,null,null,null,null,null,null,null,null,null,null,null,null,null,null,null,null,null,"・個人で申請される場合は、こちらを入力してください。"]
[null,null,null,null,"郵便番号",null,null,null,null,null,"－"]
[null,null,null,null,"(フリガナ）"]
[null,null,null,null,"住所",null,null,null,null,null,null,null,null,null,null,null,null,null,null,null,null,{"$f":"IF(AND(I27<>\"\",I13<>\"\"),\"エラー：住所が2つ入力されています。\",\"\")","v":""}]
[null,null,null,null,"(フリガナ）"]
[null,null,null,null,"氏名",null,null,null,null,null,null,null,null,null,null,null,null,null,null,null,null,{"$f":"IF(AND(I19<>\"\",I29<>\"\"),\"エラー：氏名が2つ入力されています。\",\"\")","v":""}]
[null,null,null,null,"電話番号",null,null,null,null,null,"－",null,null,"－"]
[null,null,null,null,"電子メール"]
[]
["申請者の\n連絡先",null,null,null,"郵便番号",null,null,null,null,null,"-",null,null,null,null,null,null,null,null,null,null,null,null,"・申請団体（者）のご担当者を入力してください。\n　（請負業者の担当者ではありません。）\n・電話番号は、平日昼間に連絡のつく番号を入力してください。"]
[null,null,null,null,"住所"]
[null,null,null,null,"氏名"]
[null,null,null,null,"電話番号"]
[null,null,null,null,"携帯電話"]
[null,null,null,null,"ファックス番号"]
[null,null,null,null,"メールアドレス"]
[]
["■補助金支払先金融機関情報入力"]
["金融機関",null,null,null,"発行責任者",null,null,null,null,null,null,null,null,"電話番号",null,"-",null,"-"]
[null,null,null,null,null,null,null,null,null,null,null,null,null,"メールアドレス"]
[null,null,null,null,"担当者",null,null,null,null,null,null,null,null,"電話番号",null,"-",null,"-"]
[null,null,null,null,null,null,null,null,null,null,null,null,null,"メールアドレス"]
[null,null,null,null,"支払方法"]
[null,null,null,null,"(フリガナ）",null,null,null,null,null,null,null,null,"↓選択してください。",null,null,null,null,null,null,null,null,null,"・正確に入力してください。"]
[null,null,null,null,"金融機関名",null,null,null,null,null,null,null,null,"銀行",null,null,null,null,null,null,null,null,null,"・ゆうちょ銀行の場合、「支店名」欄、「支店番号」欄、「口座番号」欄には、通帳の冒頭部の「銀行使用欄」に記載されている「店名」、「店番」、「口座番号」を記載してください。"]
[null,null,null,null,"金融機関コード"]
[null,null,null,null,"(フリガナ）",null,null,null,null,null,null,null,null,"↓選択してください。"]
[null,null,null,null,"支店名",null,null,null,null,null,null,null,null,"支店"]
[null,null,null,null,"支店番号"]
[null,null,null,null,"預金種別"]
[null,null,null,null,"上記で「その他」を選択の場合、\nその他内容を記載してください。",null,null,null,null,null,null,null,null,null,null,null,null,null,null,null,null,null,{"$f":"IF(I53=\"その他\",\"エラー：入力が必要です。\",\"←入力不要\")","v":"←入力不要"}]
[null,null,null,null,"(フリガナ）"]
[null,null,null,null,"口座名義人",null,null,null,null,null,null,null,null,null,null,null,null,null,null,null,null,null,null,"・通帳等の名義人欄を転記してください。"]
[null,null,null,null,"口座番号"]
[]
["■実施箇所情報入力"]
["実施箇所所在地等",null,null,null,"所在市町",null,null,null,null,null,null,null,null,null,null,null,null,null,null,null,null,null,null,null,null,null,"↓入力不要"]
[null,null,null,null,"町名・番地等",null,null,null,null,null,null,null,null,null,null,null,null,null,null,null,null,null,"所在地",null,null,null,{"$f":"IF(I60=\"\",\"入力不要\",VLOOKUP(I60,市町等!A1:C41,3,FALSE)&I60&I61)","v":"入力不要"}]
[null,null,null,null,"名称・概要など"]
[null,null,null,null,"土地所有者"]
[null,null,null,null,"土地の使用承諾\n維持管理協定",null,null,null,null,null,null,null,null,"←選択してください"]
[]
["■申請情報入力①",null,null,null,null,null,null,null,null,null,null,null,null,null,null,null,null,null,null,null,null,null,null,null,null,null,"↓入力不要"]
["緑化の区分",null,null,null,null,null,null,null,null,null,null,null,null,null,null,null,null,null,null,null,null,null,"所管",null,null,null,{"$f":"IF(I67=\"\",\"入力不要\",IF(I60=\"\",\"所在市町を入力してください。\",IF(OR(I67=\"一般緑化\",I67=\"校園庭の芝生化\",I67=\"ひろばの芝生化\"),VLOOKUP(I60,市町等!A1:B41,2,FALSE),\"兵庫県知事\")))","v":"入力不要"}]
[]
["■申請情報入力②",null,null,null,null,null,null,null,null,null,null,null,"↓事業完了後、実績報告の際に入力してください。"]
["交　　付　　申　　請",null,null,null,null,null,null,null,null,null,null,null,"実　　績　　報　　告"]
["申請日",null,"令和",null,"年",null,"月",null,"日",null,null,null,"報告日",null,"令和",null,"年",null,"月",null,"日"]
["補助申請額",null,null,null,null,null,null,null,null,"円",null,null,"実績報告額",null,null,null,null,null,null,null,null,"円"]
["事業開始予定時期",null,null,null,"令和",null,"年",null,"月",null,null,null,"事業開始日",null,"令和",null,"年",null,"月",null,"日"]
["事業完了予定時期",null,null,null,"令和",null,"年",null,"月",null,null,null,"事業完了日",null,"令和",null,"年",null,"月",null,"日"]
["緑化内容","植栽の場合（樹木・多年草・一年草）",null,null,null,null,null,null,null,null,null,null,"緑化内容","植栽の場合（樹木・多年草・一年草）"]
[null,null,"植樹予定本数",null,null,null,null,null,null,null,null,null,null,null,"植樹予定本数"]
[null,null,"　",null,"高　木",null,null,null,null,"本",null,null,null,null,"　",null,"高　木",null,null,null,null,"本"]
[null,null,null,null,"中　木",null,null,null,null,"本",null,null,null,null,null,null,"中　木",null,null,null,null,"本"]
[null,null,null,null,"低　木",null,null,null,null,"本",null,null,null,null,null,null,"低　木",null,null,null,null,"本"]
[null,null,null,null,"合　計",null,null,null,null,"本",null,null,null,null,null,null,"合　計",null,null,null,null,"本"]
[null,null,"設置予定プランター数",null,null,null,null,null,null,"基",null,null,null,null,"設置予定プランター数",null,null,null,null,null,null,"基"]
[null,null,null,null,"高　木",null,null,null,null,"本",null,null,null,null,null,null,"高　木",null,null,null,null,"本"]
[null,null,null,null,"中　木",null,null,null,null,"本",null,null,null,null,null,null,"中　木",null,null,null,null,"本"]
[null,null,null,null,"低　木",null,null,null,null,"本",null,null,null,null,null,null,"低　木",null,null,null,null,"本"]
[null,null,null,null,"多年草",null,null,null,null,null,null,null,null,null,null,null,"多年草",null,null,null,null,null,"←選択してください。"]
[null,null,"緑地予定面積",null,null,null,null,null,null,"㎡",null,null,null,null,"緑地予定面積",null,null,null,null,null,null,"㎡"]
[null,null,null,null,"樹　木",null,null,null,null,"㎡",null,null,null,null,null,null,"樹　木",null,null,null,null,"㎡"]
[null,null,null,null,"多年草",null,null,null,null,"㎡",null,null,null,null,null,null,"多年草",null,null,null,null,"㎡"]
[null,"芝生化の場合",null,null,null,null,null,null,null,null,null,null,null,"芝生化の場合"]
[null,null,"芝生化予定面積",null,null,null,null,null,null,"㎡",null,null,null,null,"芝生化面積",null,null,null,null,null,null,"㎡"]
["緑化の目的",null,null,null,null,null,null,null,null,null,null,null,"申請時からの事業計画の変更の有無",null,null,null,null,null,null,null,null,null,"←選択してください。"]
[]
[]
[]
[]
[null,null,null,null,null,null,null,null,null,null,null,null,null,null,null,null,null,null,null,null,null,null,null,null,null,null,"↓入力不要"]
["花と緑の\n専門家\n講習会",null,null,"受講済",null,null,"月",null,"日","←住民団体による申請の場合、原則、受講する必要があります。",null,null,null,null,null,null,null,null,null,null,null,null,"講習会状況",null,null,null,{"$f":"IF(E97=\"○\",\"受講済　\"&F97&\"月\"&H97&\"日\",IF(E98=\"○\",\"受講予定　\"&F98&\"月\"&H98&\"日\",IF(E99=\"○\",\"受講不要\",\"\")))","v":""}]
[null,null,null,"受講予定",null,null,"月",null,"日","　  受講済または受講予定に「○」を入力し、受講日（予定日）を入力してください。"]
[null,null,null,"受講不要",null,"←個人・法人による申請の場合は受講不要です。"]
[null,null,null,null,"↑該当のものに○を入れてください。"]
[]
["■維持管理情報入力"]
["維持管理の体制",null,null,null,null,null,null,null,null,null,null,null,null,null,null,null,null,null,null,null,null,null,"←選択してください。"]
[null,"上記で「その他」を選択の場合、\nその他内容を記載してください。",null,null,null,null,null,null,null,null,null,null,null,null,null,null,null,null,null,null,null,null,{"$f":"IF(F103=\"その他\",\"エラー：入力が必要です。\",\"←入力不要\")","v":"←入力不要"}]
["灌水設備（水道等）",null,null,null,null,null,null,null,null,null,null,null,null,null,null,null,null,null,null,null,null,null,"←選択してください。"]
["灌水頻度",null,null,null,null,"夏季",null,null,null,"回/週",null,"冬季",null,null,null,"回/週"]
["植栽の場合（樹木・多年草）",null,null,null,null,null,null,null,null,null,null,"芝生化の場合"]
[null,null,null,"頻度",null,null,"実施予定時期",null,null,null,null,null,null,null,"頻度",null,null,"実施予定時期"]
["剪定",null,null,null,"回/年",null,"（",null,null,"月頃）",null,"養生",null,null,null,"回/年",null,"（",null,null,"月頃）"]
["施肥",null,null,null,"回/年",null,"（",null,null,"月頃）",null,"刈り込み",null,null,null,"回/年",null,"（",null,null,"月頃）"]
["除草",null,null,null,"回/年",null,"（",null,null,"月頃）",null,"施肥",null,null,null,"回/年",null,"（",null,null,"月頃）"]
["消毒\n（病害虫駆除）",null,null,null,"回/年",null,"（",null,null,"月頃）",null,"目土",null,null,null,"回/年",null,"（",null,null,"月頃）"]
["その他",null,null,null,"回/年",null,"（",null,null,"月頃）",null,"補植",null,null,null,"回/年",null,"（",null,null,"月頃）"]
[null,null,null,null,null,null,null,null,null,null,null,"除草",null,null,null,"回/年",null,"（",null,null,"月頃）"]
[null,null,null,null,null,null,null,null,null,null,null,"播種",null,null,null,"回/年",null,"（",null,null,"月頃）"]

{"sheet":"交付申請書","index":1,"n_rows":47,"n_cols":34,"rows_kept":47,"cut":false,"hidden":false,"merged":[[26,10,26,31],[11,19,11,33],[12,30,12,32],[12,28,12,29],[12,25,12,27],[17,0,18,33],[20,0,20,33],[12,20,12,23],[12,13,12,17],[13,13,13,17],[13,19,13,33],[15,0,15,33],[9,19,9,33],[9,13,9,17],[10,13,10,17],[10,19,10,33],[11,13,11,17],[46,1,46,33],[37,1,37,33],[40,1,40,33],[44,1,44,33],[45,1,45,33],[2,22,2,24],[2,25,2,26],[2,28,2,29],[2,31,2,32],[8,13,8,17]]}
["様式第１号の１（第８条関係）"]
[]
[null,null,null,null,null,null,null,null,null,null,null,null,null,null,null,null,null,null,null,null,null,null,"令和",null,null,{"$f":"入力シート!D71","v":0},null,"年",{"$f":"入力シート!F71","v":0},null,"月",{"$f":"入力シート!H71","v":0},null,"日"]
[]
[null,{"$f":"IF(OR(入力シート!I67=\"一般緑化\",入力シート!I67=\"校園庭の芝生化\",入力シート!I67=\"ひろばの芝生化\"),入力シート!AA67&\"　様\",\" 兵庫県知事　様\")","v":" 兵庫県知事　様"}]
[null,{"$f":"IF(入力シート!I67=\"\",\"（県民局長）\",\"（市町経由）\")","v":"（県民局長）"}]
[null,{"$f":"IF(入力シート!I67=\"\",\"（県民センター長）\",\"\")","v":"（県民センター長）"}]
[null,{"$f":"IF(入力シート!I67=\"\",\"（市町経由）\",\"\")","v":"（市町経由）"}]
[null,null,null,null,null,null,null,null,null,null,null,null,null,"（申請者）"]
[null,null,null,null,null,null,null,null,null,null,null,null,null,"住所",null,null,null,null,null,{"$f":"IF(入力シート!I13=\"\",入力シート!I27,入力シート!I13)","v":0}]
[null,null,null,null,null,null,null,null,null,null,null,null,null,"団体等名称",null,null,null,null,null,{"$f":"IF(入力シート!I15=\"\",\"\",入力シート!I15)","v":""}]
[null,null,null,null,null,null,null,null,null,null,null,null,null,"代表者職氏名",null,null,null,null,null,{"$f":"IF(入力シート!I19=\"\",入力シート!I29,入力シート!I17&\"　\"&入力シート!I19)","v":0}]
[null,null,null,null,null,null,null,null,null,null,null,null,null,"電話",null,null,null,null,null,"(",{"$f":"IF(入力シート!I20=\"\",入力シート!I30,入力シート!I20)","v":0},null,null,null,"）",{"$f":"IF(入力シート!L20=\"\",入力シート!L30,入力シート!L20)","v":0},null,null,"－",null,{"$f":"IF(入力シート!O20=\"\",入力シート!O30,入力シート!O20)","v":0},null,null,"番"]
[null,null,null,null,null,null,null,null,null,null,null,null,null,"電子メール",null,null,null,null,null,{"$f":"IF(入力シート!I21=\"\",入力シート!I31,入力シート!I21)","v":0}]
[]
["県民まちなみ緑化事業補助金交付申請書"]
[]
["　県民まちなみ緑化事業による補助を受けたいので、県民まちなみ緑化事業実施要領第８条第１項の規定に基づき、下記のとおり関係書類を添えて申請します。"]
[]
[]
["記"]
[]
[null,"１",null,"補助の種別",null,null,null,null,null,null,{"$f":"IF(入力シート!I67=\"\",\"ア　一般緑化　　　　　　　　　　イ　校園庭の芝生化\",入力シート!I67)","v":"ア　一般緑化　　　　　　　　　　イ　校園庭の芝生化"}]
[null,null,null,null,null,null,null,null,null,null,{"$f":"IF(入力シート!I67=\"\",\"ウ　ひろばの芝生化　　　　　　　エ　駐車場の芝生化\",\"\")","v":"ウ　ひろばの芝生化　　　　　　　エ　駐車場の芝生化"}]
[null,null,null,null,null,null,null,null,null,null,{"$f":"IF(入力シート!I67=\"\",\"オ　建築物の屋上緑化・壁面緑化　カ　都心緑化\",\"\")","v":"オ　建築物の屋上緑化・壁面緑化　カ　都心緑化"}]
[]
[null,"２",null,"交付申請額",null,null,null,null,null,null,{"$f":"IF(入力シート!E72=\"\",\"金                　　　   円\",\"金\"&DBCS(TEXT(入力シート!E72,\"＃，＃＃０\")&\"円\"))","v":"金                　　　   円"}]
[]
[null,"３",null,"緑化の概要",null,null,null,null,null,null,"別紙「県民まちなみ緑化事業計画書」のとおり"]
[]
[]
[null,"（添付書類）"]
[null,"① 県民まちなみ緑化事業計画書（様式第１号の３）"]
[null,null,"（都心緑化の場合、都心緑化計画を添付すること）"]
[null,"② 実施箇所の位置図、現況写真"]
[null,"③ 計画図、数量計算書"]
[null,"④ 土地・建築物所有者の使用承諾書兼維持管理協定書の写し"]
[null,"　 （自己の所有に属しない土地又は建築物において事業を実施しようとする場合のみ必要）"]
[null,"⑤ 業者からの見積書の写し（１社。経費の内訳が分かる書類を添付してください。）"]
[null,"⑥ 債権者登録書（新規）（指定様式)"]
[null,"⑦ 概算払理由書（様式第１号の５）（補助金の概算払請求をする予定の場合のみ必要）"]
[null,"⑧ 暴力団等に該当しない旨等を記載した誓約書（指定様式）"]
[]
[]
[null,"同一敷地で複数の補助の種別を実施する場合、その複数の種別をまとめて申請することもできます。"]
[null,"その場合、交付申請額は合計額及び補助種別ごとの内訳を記入してください。"]
[null,"また、数量計算書や見積書は補助種別ごとに内訳が確認できるものを添付してください。"]

{"sheet":"事業計画書","index":2,"n_rows":45,"n_cols":22,"rows_kept":45,"cut":false,"hidden":false,"merged":[[24,1,28,1],[22,2,22,21],[16,2,16,8],[16,14,16,21],[25,18,25,20],[25,14,25,15],[36,0,36,1],[36,12,36,14],[36,2,36,4],[36,5,36,6],[36,15,36,17],[38,18,38,21],[37,0,44,1],[41,8,41,11],[42,8,42,11],[37,2,37,11],[38,12,38,14],[38,2,38,4],[39,2,39,4],[40,5,40,7],[37,12,37,21],[39,12,39,14],[40,12,40,14],[40,8,40,11],[41,12,41,14],[38,5,38,7],[42,2,42,4],[40,2,40,4],[41,2,41,4],[39,5,39,7],[41,5,41,7],[42,5,42,7],[40,15,40,17],[39,18,39,21],[1,0,1,21],[5,2,5,21],[10,2,10,21],[5,0,9,0],[6,2,6,21],[10,0,11,0],[9,2,9,21],[7,2,7,21],[8,2,8,21],[11,2,11,21],[27,18,27,20],[38,8,38,11],[39,8,39,11],[38,15,38,17],[30,0,30,1],[43,18,43,21],[44,12,44,14],[43,12,43,14],[43,15,43,17],[40,18,40,21],[44,18,44,21],[44,15,44,17],[42,12,42,14],[41,18,41,21],[41,15,41,17],[42,18,42,21],[42,15,42,17],[39,15,39,17],[31,0,31,1],[31,2,31,21],[34,0,34,1],[35,0,35,1],[28,18,28,20],[24,0,29,0],[28,16,28,17],[28,14,28,15],[27,13,27,14],[28,2,28,6],[28,7,28,10],[27,16,27,17],[25,7,25,10],[27,7,27,8],[27,9,27,10],[27,11,27,12],[29,2,29,6],[35,2,35,21],[29,7,29,10],[34,2,34,21],[30,2,30,21],[23,2,23,21],[21,2,21,21],[25,11,25,12],[24,2,24,6],[24,8,24,21],[4,2,4,21],[4,0,4,1],[15,2,15,8],[19,2,19,21],[15,9,15,13],[12,0,16,0],[13,2,13,21],[12,2,12,21],[19,0,23,0],[20,2,20,21],[15,14,15,21],[14,2,14,21]]}
["様式第1号の3"]
["県民まちなみ緑化事業計画書"]
[]
["1　申請団体（者）について"]
["申請者区分",null,{"$f":"入力シート!I9","v":0}]
["申請者","郵便番号",{"$f":"IF(入力シート!I60=\"\",\"\",IF(入力シート!I15=\"\",入力シート!I25&\"-\"&入力シート!L25,入力シート!I11&\"-\"&入力シート!L11))","v":""}]
[null,"住所",{"$f":"IF(入力シート!I27=\"\",入力シート!I13,入力シート!I27)","v":0}]
[null,"団体等名称",{"$f":"IF(入力シート!I15=\"\",\"\",入力シート!I15)","v":""}]
[null,"代表者職氏名",{"$f":"IF(入力シート!I29=\"\",入力シート!I17&\"　\"&入力シート!I19,入力シート!I29)","v":"　"}]
[null,"電話番号",{"$f":"IF(入力シート!I60=\"\",\"\",IF(入力シート!I20=\"\",入力シート!I30&\"-\"&入力シート!L30&\"-\"&入力シート!O30,入力シート!I20&\"-\"&入力シート!L20&\"-\"&入力シート!O20))","v":""}]
["申請団体\nの概要\n（住民団体のみ）","構成員数",{"$f":"IF(入力シート!I22=\"\",\"　　　　　　　　名\",DBCS(TEXT(入力シート!I22,\"#,##0\"))&\"名\")","v":"　　　　　　　　名"}]
[null,"活動内容",{"$f":"入力シート!I23","v":0}]
["申請者の\n連絡先","郵便番号",{"$f":"IF(入力シート!I33=\"\",\"\",入力シート!I33&\"-\"&入力シート!L33)","v":""}]
[null,"住所",{"$f":"入力シート!I34","v":0}]
[null,"担当者名",{"$f":"入力シート!I35","v":0}]
[null,"電話番号",{"$f":"入力シート!I36","v":0},null,null,null,null,null,null,"携帯電話",null,null,null,null,{"$f":"入力シート!I37","v":0}]
[null,"F A X番号",{"$f":"入力シート!I38","v":0},null,null,null,null,null,null,"メールアドレス",null,null,null,null,{"$f":"入力シート!I39","v":0}]
[]
["2　緑化計画等について"]
["実施箇所","所在地",{"$f":"IF(入力シート!I60=\"\",\"\",入力シート!AA61)","v":""}]
[null,"名称・概要",{"$f":"入力シート!I62","v":0}]
[null,"土地の所有者",{"$f":"入力シート!I63","v":0}]
[null,"土地の使用承諾\n維持管理協定",{"$f":"入力シート!I64","v":0}]
[null,"緑化の目的",{"$f":"入力シート!B91","v":0}]
["緑化内容","植栽の場合\n（樹木、多年草）","植樹予定本数",null,null,null,null,null,{"$f":"IF(入力シート!H80=\"\",\"　　　本\",TEXT(入力シート!H80,\"#,###\")&\" 本\")","v":"　　　本"},{"$f":"IF(入力シート!J80=\"\",\"　　　本\",DBCS(TEXT(入力シート!J80,\"#,###\"))&\"本\")","v":"本本"},{"$f":"IF(入力シート!K80=\"\",\"　　　本\",DBCS(TEXT(入力シート!K80,\"#,###\"))&\"本\")","v":"　　　本"},{"$f":"IF(入力シート!L80=\"\",\"　　　本\",DBCS(TEXT(入力シート!L80,\"#,###\"))&\"本\")","v":"　　　本"},{"$f":"IF(入力シート!M80=\"\",\"　　　本\",DBCS(TEXT(入力シート!M80,\"#,###\"))&\"本\")","v":"　　　本"},{"$f":"IF(入力シート!N80=\"\",\"　　　本\",DBCS(TEXT(入力シート!N80,\"#,###\"))&\"本\")","v":"　　　本"},{"$f":"IF(入力シート!O80=\"\",\"　　　本\",DBCS(TEXT(入力シート!O80,\"#,###\"))&\"本\")","v":"　　　本"},{"$f":"IF(入力シート!P80=\"\",\"　　　本\",DBCS(TEXT(入力シート!P80,\"#,###\"))&\"本\")","v":"　　　本"},{"$f":"IF(入力シート!Q80=\"\",\"　　　本\",DBCS(TEXT(入力シート!Q80,\"#,###\"))&\"本\")","v":"合　計本"},{"$f":"IF(入力シート!R80=\"\",\"　　　本\",DBCS(TEXT(入力シート!R80,\"#,###\"))&\"本\")","v":"　　　本"},{"$f":"IF(入力シート!S80=\"\",\"　　　本\",DBCS(TEXT(入力シート!S80,\"#,###\"))&\"本\")","v":"　　　本"},{"$f":"IF(入力シート!T80=\"\",\"　　　本\",DBCS(TEXT(入力シート!T80,\"#,###\"))&\"本\")","v":"　　　本"},{"$f":"IF(入力シート!U80=\"\",\"　　　本\",DBCS(TEXT(入力シート!U80,\"#,###\"))&\"本\")","v":"　　　本"},{"$f":"IF(入力シート!V80=\"\",\"　　　本\",DBCS(TEXT(入力シート!V80,\"#,###\"))&\"本\")","v":"本本"}]
[null,null,null,"（内訳：",null,null,"高木",{"$f":"IF(入力シート!H77=\"\",\"  本\",TEXT(入力シート!H77,\"#,###\"&\" 本\"))","v":"  本"},null,null,null,"中木",null,null,{"$f":"IF(入力シート!H78=\"\",\"  本\",TEXT(入力シート!H78,\"#,###\")&\" 本\")","v":"  本"},null,"低木",null,{"$f":"IF(入力シート!H79=\"\",\"  本\",TEXT(入力シート!H79,\"#,###\"&\" 本\"))","v":"  本"},null,null,"）"]
[null,null,"プランター設置予定数",null,null,null,null,null,null,{"$f":"IF(入力シート!H81=\"\",\"　　　基\",TEXT(入力シート!H81,\"#,###\")&\" 基\")","v":"　　　基"}]
[null,null,null,"（内訳：",null,null,"高木",{"$f":"IF(入力シート!H82=\"\",\"  本\",TEXT(入力シート!H82,\"#,###\"&\" 本\"))","v":"  本"},null,"中木",null,{"$f":"IF(入力シート!H83=\"\",\"  本\",TEXT(入力シート!H83,\"#,###\")&\" 本\")","v":"  本"},null,"低木",null,{"$f":"IF(入力シート!H84=\"\",\"  本\",TEXT(入力シート!H84,\"#,###\"&\" 本\"))","v":"  本"},"多年草",null,{"$f":"IF(入力シート!H85=\"\",\"有・無\",入力シート!H85)","v":"有・無"},null,null,"）"]
[null,null,"緑地予定面積",null,null,null,null,{"$f":"IF(INT(入力シート!H86)=入力シート!H86,TEXT(入力シート!H86,\"#,###\"),TEXT(ROUNDDOWN(入力シート!H86,2),\"#,###.##\"))","v":""},null,null,null,"㎡","（樹木",null,{"$f":"IF(入力シート!H87=\"\",\"　　㎡\",入力シート!H87&\"㎡\")","v":"　　㎡"},null,"多年草",null,{"$f":"IF(入力シート!H88=\"\",\"　　㎡\",入力シート!H88&\"㎡\")","v":"　　㎡"},null,null,"）"]
[null,"芝生化の場合","芝生化予定面積",null,null,null,null,{"$f":"IF(INT(入力シート!H90)=入力シート!H90,TEXT(入力シート!H90,\"#,###\"),TEXT(ROUNDDOWN(入力シート!H90,2),\"#,###.##\"))","v":""},null,null,null,"㎡"]
["専門家講習会受講状況",null,{"$f":"IF(入力シート!I67=\"\",\"□ 受講済（　　/　　）　□ 受講予定（　　/　　頃予定）　□ 受講不要\",入力シート!AA97)","v":"□ 受講済（　　/　　）　□ 受講予定（　　/　　頃予定）　□ 受講不要"}]
["事業予定時期",null,{"$f":"IF(入力シート!I67=\"\",\"令和　　　年　　　月　～　令和　　　年　　　月\",\"令和 \"&入力シート!F73&\" 年 \"&入力シート!H73&\" 月　～　令和 \"&入力シート!F74&\" 年 \"&入力シート!H74&\" 月\")","v":"令和　　　年　　　月　～　令和　　　年　　　月"}]
[]
["3　維持管理計画について"]
["維持管理の体制",null,{"$f":"IF(入力シート!F103=\"\",\"□ 申請者による自主管理　　　　　　　　　□ 業者等への委託管理\n□ その他（　　　　　　　　　　　　　　　　　　）\",IF(入力シート!F103=\"その他\",入力シート!F103&\"（\"&入力シート!K104&\"）\",入力シート!F103))","v":"□ 申請者による自主管理　　　　　　　　　□ 業者等への委託管理\n□ その他（　　　　　　　　　　　　　　　　　　）"}]
["灌水設備（水道等）",null,{"$f":"IF(入力シート!F105=\"\",\"□ 有（実施箇所付近に散水栓有り）　　　□ 無\",入力シート!F105)","v":"□ 有（実施箇所付近に散水栓有り）　　　□ 無"}]
["灌水頻度",null,"夏　季",null,null,{"$f":"入力シート!H106","v":0},null,"回/週",null,null,null,null,"冬　季",null,null,{"$f":"入力シート!N106","v":0},null,null,"回/週"]
["その他維持管理項目",null,"植栽の場合（樹木、多年草）",null,null,null,null,null,null,null,null,null,"芝生化の場合"]
[null,null,"剪定",null,null,{"$f":"IF(入力シート!D109=\"\",\"回/年\",入力シート!D109&\" 回/年\")","v":"回/年"},null,null,{"$f":"IF(入力シート!H109=\"\",\"（　　　　月頃）\",\"（\"&入力シート!H109&\" 月頃）\")","v":"（　　　　月頃）"},null,null,null,"養生",null,null,{"$f":"IF(入力シート!O109=\"\",\"回/年\",入力シート!O109&\" 回/年\")","v":"回/年"},null,null,{"$f":"IF(入力シート!S109=\"\",\"（　　　　月頃）\",\"（\"&入力シート!S109&\" 月頃）\")","v":"（　　　　月頃）"}]
[null,null,"施肥",null,null,{"$f":"IF(入力シート!D110=\"\",\"回/年\",入力シート!D110&\" 回/年\")","v":"回/年"},null,null,{"$f":"IF(入力シート!H110=\"\",\"（　　　　月頃）\",\"（\"&入力シート!H110&\" 月頃）\")","v":"（　　　　月頃）"},null,null,null,"刈り込み",null,null,{"$f":"IF(入力シート!O110=\"\",\"回/年\",入力シート!O110&\" 回/年\")","v":"回/年"},null,null,{"$f":"IF(入力シート!S110=\"\",\"（　　　　月頃）\",\"（\"&入力シート!S110&\" 月頃）\")","v":"（　　　　月頃）"}]
[null,null,"除草",null,null,{"$f":"IF(入力シート!D111=\"\",\"回/年\",入力シート!D111&\" 回/年\")","v":"回/年"},null,null,{"$f":"IF(入力シート!H111=\"\",\"（　　　　月頃）\",\"（\"&入力シート!H111&\" 月頃）\")","v":"（　　　　月頃）"},null,null,null,"施肥",null,null,{"$f":"IF(入力シート!O111=\"\",\"回/年\",入力シート!O111&\" 回/年\")","v":"回/年"},null,null,{"$f":"IF(入力シート!S111=\"\",\"（　　　　月頃）\",\"（\"&入力シート!S111&\" 月頃）\")","v":"（　　　　月頃）"}]
[null,null,"消毒\n（病害虫駆除）",null,null,{"$f":"IF(入力シート!D112=\"\",\"回/年\",入力シート!D112&\" 回/年\")","v":"回/年"},null,null,{"$f":"IF(入力シート!H112=\"\",\"（　　　　月頃）\",\"（\"&入力シート!H112&\" 月頃）\")","v":"（　　　　月頃）"},null,null,null,"目土",null,null,{"$f":"IF(入力シート!O112=\"\",\"回/年\",入力シート!O112&\" 回/年\")","v":"回/年"},null,null,{"$f":"IF(入力シート!S112=\"\",\"（　　　　月頃）\",\"（\"&入力シート!S112&\" 月頃）\")","v":"（　　　　月頃）"}]
[null,null,"その他",null,null,{"$f":"IF(入力シート!D113=\"\",\"回/年\",入力シート!D113&\" 回/年\")","v":"回/年"},null,null,{"$f":"IF(入力シート!H113=\"\",\"（　　　　月頃）\",\"（\"&入力シート!H113&\" 月頃）\")","v":"（　　　　月頃）"},null,null,null,"補植",null,null,{"$f":"IF(入力シート!O113=\"\",\"回/年\",入力シート!O113&\" 回/年\")","v":"回/年"},null,null,{"$f":"IF(入力シート!S113=\"\",\"（　　　　月頃）\",\"（\"&入力シート!S113&\" 月頃）\")","v":"（　　　　月頃）"}]
[null,null,null,null,null,null,null,null,null,null,null,null,"除草",null,null,{"$f":"IF(入力シート!O114=\"\",\"回/年\",入力シート!O114&\" 回/年\")","v":"回/年"},null,null,{"$f":"IF(入力シート!S114=\"\",\"（　　　　月頃）\",\"（\"&入力シート!S114&\" 月頃）\")","v":"（　　　　月頃）"}]
[null,null,null,null,null,null,null,null,null,null,null,null,"播種",null,null,{"$f":"IF(入力シート!O115=\"\",\"回/年\",入力シート!O115&\" 回/年\")","v":"回/年"},null,null,{"$f":"IF(入力シート!S115=\"\",\"（　　　　月頃）\",\"（\"&入力シート!S115&\" 月頃）\")","v":"（　　　　月頃）"}]

{"sheet":"債権者登録書","index":3,"n_rows":81,"n_cols":13,"rows_kept":81,"cut":false,"hidden":false,"merged":[[24,2,24,9],[23,2,23,9],[32,4,32,13],[33,4,33,13],[34,4,34,13],[21,1,21,2],[22,2,22,3],[22,7,22,9],[10,2,10,11],[12,2,12,11],[13,2,13,11],[18,1,18,2],[20,2,20,4],[19,2,19,4],[11,2,11,11],[15,2,15,4],[16,2,17,4],[19,6,19,8],[20,6,20,8],[17,7,17,13]]}
[]
[]
[]
[]
[]
[]
[]
[]
[]
[]
[null,null,{"$f":"IF(入力シート!I12=\"\",入力シート!I26,入力シート!I12)","v":0}]
[null,null,{"$f":"IF(入力シート!I13=\"\",入力シート!I27,入力シート!I13)","v":0}]
[null,null,{"$f":"IF(入力シート!I28=\"\",入力シート!I14&\"　\"&入力シート!I16&\"　\"&入力シート!I18,入力シート!I28)","v":"　　"}]
[null,null,{"$f":"IF(入力シート!I29=\"\",入力シート!I15&\"  \"&入力シート!I17&\"  \"&入力シート!I19,入力シート!I29)","v":"    "}]
[null,null,{"$f":"IF(入力シート!I25=\"\",入力シート!I11,入力シート!I25)","v":0},{"$f":"IF(入力シート!L25=\"\",入力シート!L11,入力シート!L25)","v":0},null,null,null,null,null,{"$f":"IF(入力シート!I30=\"\",入力シート!I20,入力シート!I30)","v":0},null,{"$f":"IF(入力シート!L30=\"\",入力シート!L20,入力シート!L30)","v":0},{"$f":"IF(入力シート!O30=\"\",入力シート!O20,入力シート!O30)","v":0}]
[null,null,{"$f":"入力シート!I42","v":0},null,null,null,null,null,null,{"$f":"入力シート!O42","v":0},null,{"$f":"入力シート!Q42","v":0},{"$f":"入力シート!S42","v":0}]
[null,null,{"$f":"入力シート!I44","v":0},null,null,null,null,null,null,{"$f":"入力シート!O44","v":0},null,{"$f":"入力シート!Q44","v":0},{"$f":"入力シート!S44","v":0}]
[null,null,null,null,null,null,null,{"$f":"入力シート!O45","v":0}]
[null,{"$f":"IF(入力シート!I46=\"口座振替払（口座振込）\",\"　　　 ○\",\"\")","v":""},null,null,{"$f":"IF(入力シート!I46=\"隔地払（送金通知書）\",\"　　　　　○\",\"\")","v":""},null,null,null,null,null,{"$f":"IF(入力シート!I46=\"隔地払（振替払出証書）\",\"   ○\",\"\")","v":""}]
[null,null,{"$f":"入力シート!I47","v":0},null,null,null,{"$f":"入力シート!I50","v":0}]
[null,null,{"$f":"入力シート!I48","v":0},null,null,null,{"$f":"入力シート!I51","v":0}]
[null,{"$f":"IF(入力シート!I53=\"普通・総合\",\"　　   ○\",\"\")","v":""},null,{"$f":"IF(入力シート!I53=\"当座\",\" 　 　　 ○\",\"\")","v":""},{"$f":"IF(入力シート!I53=\"貯蓄\",\" 　 　  　  ○\",\"\")","v":""},null,{"$f":"IF(入力シート!I53=\"その他\",\"　　　　   ○\",\"\")","v":""},null,null,null,{"$f":"入力シート!L54","v":0}]
[null,null,{"$f":"入力シート!I49&\"  　 \"&入力シート!I52","v":"  　 "},null,null,null,null,{"$f":"入力シート!I57","v":0}]
[null,null,{"$f":"入力シート!I55","v":0}]
[null,null,{"$f":"入力シート!I56","v":0}]
[]
[]
[]
[]
[]
[]
[]
[null,null,null,null,{"$f":"IF(入力シート!I27=\"\",入力シート!I13,入力シート!I27)","v":0}]
[null,null,null,null,{"$f":"IF(入力シート!I29=\"\",入力シート!I15,入力シート!I29)","v":0}]
[null,null,null,null,{"$f":"IF(入力シート!I29=\"\",入力シート!I17&\"　\"&入力シート!I19,\"\")","v":"　"}]
[]
[]
[]
[]
[]
[]
[]
[]
[]
[]
[]
[]
[]
[]
[]
[]
[]
[]
[]
[]
[]
[]
[]
[]
[]
[]
[]
[]
[]
[]
[]
[]
[]
[]
[]
[]
[]
[]
[]
[]
[]
[]
[]
[]
[]
[{"$f":"IF(入力シート!D71=\"\",\"令和　　年　　月　　日\",\"令和\"&入力シート!D71&\"年\"&入力シート!F71&\"月\"&入力シート!H71&\"日\")","v":"令和　　年　　月　　日"}]

{"sheet":"概算払理由書","index":4,"n_rows":25,"n_cols":34,"rows_kept":25,"cut":false,"hidden":false,"merged":[[2,31,2,32],[8,13,8,17],[9,13,9,17],[2,25,2,26],[2,28,2,29],[9,19,9,33],[26,0,31,33],[2,22,2,24],[22,0,22,33],[10,19,10,33],[11,19,11,33],[16,0,16,33],[19,0,20,33],[10,13,10,17],[11,13,11,17],[12,13,12,17],[13,13,13,17],[13,19,13,33],[12,30,12,32],[12,28,12,29],[12,25,12,27],[12,20,12,23]]}
["様式第１号の５（第１２条の２関係）"]
[]
[null,null,null,null,null,null,null,null,null,null,null,null,null,null,null,null,null,null,null,null,null,null,"令和",null,null,{"$f":"入力シート!D71","v":0},null,"年",{"$f":"入力シート!F71","v":0},null,"月",{"$f":"入力シート!H71","v":0},null,"日"]
[]
[null,{"$f":"IF(OR(入力シート!I67=\"一般緑化\",入力シート!I67=\"校園庭の芝生化\",入力シート!I67=\"ひろばの芝生化\"),入力シート!AA67&\"　様\",\" 兵庫県知事　様\")","v":" 兵庫県知事　様"}]
[null,{"$f":"IF(入力シート!I67=\"\",\"（県民局長）\",\"（市町経由）\")","v":"（県民局長）"}]
[null,{"$f":"IF(入力シート!I67=\"\",\"（県民センター長）\",\"\")","v":"（県民センター長）"}]
[null,{"$f":"IF(入力シート!I67=\"\",\"（市町経由）\",\"\")","v":"（市町経由）"}]
[null,null,null,null,null,null,null,null,null,null,null,null,null,"（申請者）"]
[null,null,null,null,null,null,null,null,null,null,null,null,null,"住所",null,null,null,null,null,{"$f":"IF(入力シート!I13=\"\",入力シート!I27,入力シート!I13)","v":0}]
[null,null,null,null,null,null,null,null,null,null,null,null,null,"団体等名称",null,null,null,null,null,{"$f":"IF(入力シート!I15=\"\",\"\",入力シート!I15)","v":""}]
[null,null,null,null,null,null,null,null,null,null,null,null,null,"代表者職氏名",null,null,null,null,null,{"$f":"IF(入力シート!I19=\"\",入力シート!I29,入力シート!I17&\"　\"&入力シート!I19)","v":0}]
[null,null,null,null,null,null,null,null,null,null,null,null,null,"電話",null,null,null,null,null,"(",{"$f":"IF(入力シート!I20=\"\",入力シート!I30,入力シート!I20)","v":0},null,null,null,"）",{"$f":"IF(入力シート!L20=\"\",入力シート!L30,入力シート!L20)","v":0},null,null,"－",null,{"$f":"IF(入力シート!O20=\"\",入力シート!O30,入力シート!O20)","v":0},null,null,"番"]
[null,null,null,null,null,null,null,null,null,null,null,null,null,"電子メール",null,null,null,null,null,{"$f":"IF(入力シート!I21=\"\",入力シート!I31,入力シート!I21)","v":0}]
[]
[]
["概算払理由書"]
[]
[]
[{"$f":"IF(入力シート!I67=\"\",\"　令和　　年　　月　　日付けにより申請する県民まちなみ緑化事業について、概算による補助金の交付を受けたいので、県民まちなみ緑化事業実施要領第１２条の２第１項の規定に基づき、理由書を提出します。\",\"　\"&\"令和\"&DBCS(入力シート!D71)&\"年\"&DBCS(入力シート!F71)&\"月\"&DBCS(入力シート!H71)&\"日\"&\"付けにより申請する県民まちなみ緑化事業について、概算による補助金の交付を受けたいので、県民まちなみ緑化事業実施要領第１２条の２第１項の規定に基づき、理由書を提出します。\")","v":"　令和　　年　　月　　日付けにより申請する県民まちなみ緑化事業について、概算による補助金の交付を受けたいので、県民まちなみ緑化事業実施要領第１２条の２第１項の規定に基づき、理由書を提出します。"}]
[]
[]
["記"]
[]
["概算払による補助金の交付を受けようとする時期・理由"]

{"sheet":"誓約書","index":5,"n_rows":54,"n_cols":14,"rows_kept":54,"cut":false,"hidden":false,"merged":[[23,2,23,3],[12,3,12,12],[13,3,13,12],[14,3,14,12],[15,3,15,12],[17,3,17,5],[18,3,19,5],[20,2,20,3],[21,3,21,5],[21,7,21,9],[22,3,22,5],[22,7,22,9],[43,7,43,14],[24,3,24,4],[24,8,24,10],[25,3,25,10],[26,3,26,10],[39,7,39,14],[40,7,40,14],[41,7,41,14]]}
[]
[]
[]
[]
[]
[]
[]
[]
[]
[]
[]
[]
[]
[]
[]
[]
[]
[]
[]
[]
[]
[]
[]
[]
[]
[]
[]
[]
[]
[]
[]
[]
[]
[]
[]
[]
[]
[]
[]
[null,null,null,null,null,"住　　所",null,{"$f":"IF(入力シート!I27=\"\",入力シート!I13,入力シート!I27)","v":0}]
[null,null,null,null,null,"団 体 名",null,{"$f":"入力シート!I15","v":0}]
[null,null,null,null,null,"代表者名",null,{"$f":"IF(入力シート!I29=\"\",入力シート!I17&\"　\"&入力シート!I19,入力シート!I29)","v":"　"}]
[null,null,null,null,null,"電　　話",null,"(",{"$f":"IF(入力シート!I30=\"\",入力シート!I20,入力シート!I30)","v":0},"）",{"$f":"IF(入力シート!L30=\"\",入力シート!L20,入力シート!L30)","v":0},"－",{"$f":"IF(入力シート!O30=\"\",入力シート!O20,入力シート!O30)","v":0},"番"]
[null,null,null,null,null,"電子メール",null,{"$f":"IF(入力シート!I21=\"\",入力シート!I31,入力シート!I21)","v":0}]
[]
[]
[]
[]
[]
[]
[]
[]
[]
[null,{"$f":"IF(入力シート!D71=\"\",\"令和　　年　　月　　日\",\"令和\"&入力シート!D71&\"年\"&入力シート!F71&\"月\"&入力シート!H71&\"日\")","v":"令和　　年　　月　　日"}]

{"sheet":"実績報告書","index":6,"n_rows":44,"n_cols":34,"rows_kept":44,"cut":false,"hidden":false,"merged":[[31,3,31,7],[20,0,20,33],[12,19,12,33],[9,19,9,33],[29,3,29,7],[10,19,10,33],[14,0,14,33],[16,0,17,33],[27,10,27,31],[23,3,23,7],[12,13,12,17],[29,10,29,31],[27,3,27,7],[1,31,1,32],[1,22,1,24],[1,25,1,26],[7,13,7,17],[11,13,11,17],[1,28,1,29],[8,19,8,33],[10,13,10,17],[11,30,11,32],[8,13,8,17],[9,13,9,17],[11,28,11,29],[11,25,11,27],[11,20,11,23]]}
["様式第５号の１（第１０条関係）"]
[null,null,null,null,null,null,null,null,null,null,null,null,null,null,null,null,null,null,null,null,null,null,"令和",null,null,{"$f":"入力シート!P71","v":0},null,"年",{"$f":"入力シート!R71","v":0},null,"月",{"$f":"入力シート!T71","v":0},null,"日"]
[]
[null,{"$f":"IF(OR(入力シート!I67=\"一般緑化\",入力シート!I67=\"校園庭の芝生化\",入力シート!I67=\"ひろばの芝生化\"),入力シート!AA67&\"　様\",\" 兵庫県知事　様\")","v":" 兵庫県知事　様"}]
[null,{"$f":"IF(入力シート!I67=\"\",\"（県民局長）\",\"（市町経由）\")","v":"（県民局長）"}]
[null,{"$f":"IF(入力シート!I67=\"\",\"（県民センター長）\",\"\")","v":"（県民センター長）"}]
[null,{"$f":"IF(入力シート!I67=\"\",\"（市町経由）\",\"\")","v":"（市町経由）"}]
[null,null,null,null,null,null,null,null,null,null,null,null,null,"（申請者）"]
[null,null,null,null,null,null,null,null,null,null,null,null,null,"住所",null,null,null,null,null,{"$f":"IF(入力シート!I13=\"\",入力シート!I27,入力シート!I13)","v":0}]
[null,null,null,null,null,null,null,null,null,null,null,null,null,"団体等名称",null,null,null,null,null,{"$f":"IF(入力シート!I15=\"\",\"\",入力シート!I15)","v":""}]
[null,null,null,null,null,null,null,null,null,null,null,null,null,"代表者職氏名",null,null,null,null,null,{"$f":"IF(入力シート!I19=\"\",入力シート!I29,入力シート!I17&\"　\"&入力シート!I19)","v":0}]
[null,null,null,null,null,null,null,null,null,null,null,null,null,"電話",null,null,null,null,null,"(",{"$f":"IF(入力シート!I20=\"\",入力シート!I30,入力シート!I20)","v":0},null,null,null,"）",{"$f":"IF(入力シート!L20=\"\",入力シート!L30,入力シート!L20)","v":0},null,null,"－",null,{"$f":"IF(入力シート!O20=\"\",入力シート!O30,入力シート!O20)","v":0},null,null,"番"]
[null,null,null,null,null,null,null,null,null,null,null,null,null,"電子メール",null,null,null,null,null,{"$f":"IF(入力シート!I21=\"\",入力シート!I31,入力シート!I21)","v":0}]
[]
["県民まちなみ緑化事業実績報告書"]
[]
["　　　　　年　　月　　日付け　　第　　　　号により交付決定（　　　　年　　月　　日付け　　第　　　　号で変更承認）のあった標記事業について、下記のとおり完了しましたので、県民まちなみ緑化事業実施要領第１０条第１項の規定に基づき、関係書類を添えて報告します。"]
[]
[]
[]
["記"]
[]
[]
[null,"１",null,"補助の種別",null,null,null,null,null,null,{"$f":"IF(入力シート!I67=\"\",\"ア　一般緑化　　　　 　　　　　   イ　校園庭の芝生化\",入力シート!I67)","v":"ア　一般緑化　　　　 　　　　　   イ　校園庭の芝生化"}]
[null,null,null,null,null,null,null,null,null,null,{"$f":"IF(入力シート!I67=\"\",\"ウ　ひろばの芝生化　　　　　　　　エ　駐車場の芝生化\",\"\")","v":"ウ　ひろばの芝生化　　　　　　　　エ　駐車場の芝生化"}]
[null,null,null,null,null,null,null,null,null,null,{"$f":"IF(入力シート!I67=\"\",\"オ　建築物の屋上緑化・壁面緑化　　カ　都心緑化\",\"\")","v":"オ　建築物の屋上緑化・壁面緑化　　カ　都心緑化"}]
[]
[null,"２",null,"交付決定額",null,null,null,null,null,null,{"$f":"IF(入力シート!E72=\"\",\"金                 　　　   円\",\"金\"&DBCS(TEXT(入力シート!E72,\"#,###\"))&\"円\")","v":"金                 　　　   円"}]
[]
[null,"３",null,"実績報告額",null,null,null,null,null,null,{"$f":"IF(入力シート!O72=\"\",\"金                 　　　   円\",\"金\"&DBCS(TEXT(入力シート!O72,\"#,###\"))&\"円\")","v":"金                 　　　   円"}]
[]
[null,"４",null,"緑化の概要",null,null,null,null,null,null,"別紙「県民まちなみ緑化事業報告書」のとおり"]
[]
[]
[null,"（添付書類）"]
[null,"① 県民まちなみ緑化事業報告書（様式第５号の３）"]
[null,"② 緑化整備図"]
[null,"③ 写真（緑化後のもの、植樹活動風景、緑化資材（肥料、土壌改良材）の空袋 等）"]
[null,"④ 業者からの請求書及び領収書の写し（経費の内訳が分かる書類を添付してください。）"]
[]
[]
["　　同一敷地で複数の補助の種別を実施した場合、その複数の種別をまとめて報告することもできます。"]
["　　その場合、交付決定額及び実績報告額は合計額及び補助種別ごとの内訳を記入してください。"]
["　　また、経費の内訳が分かる書類は補助種別ごとに内訳が確認できるものを添付してください。"]

{"sheet":"事業報告書","index":7,"n_rows":35,"n_cols":22,"rows_kept":35,"cut":false,"hidden":false,"merged":[[9,2,9,21],[9,0,13,0],[22,17,22,18],[16,2,16,21],[13,14,13,21],[12,2,12,8],[12,9,12,13],[13,2,13,8],[13,9,13,13],[10,2,10,21],[11,2,11,21],[12,14,12,21],[33,0,33,1],[18,0,24,0],[29,0,29,1],[25,0,25,1],[23,19,23,21],[18,13,18,21],[20,13,20,14],[32,9,32,10],[25,2,25,21],[31,2,31,8],[22,19,22,20],[34,0,34,1],[30,0,30,1],[31,0,31,1],[16,0,17,0],[19,1,23,1],[18,1,18,11],[20,7,20,9],[17,2,17,21],[20,19,20,21],[19,2,19,5],[19,8,19,21],[32,3,32,8],[24,2,24,5],[32,0,32,1],[24,7,24,9],[31,9,31,10],[1,0,1,21],[6,2,6,21],[4,0,8,0],[7,2,7,21],[4,2,4,21],[5,2,5,21],[8,2,8,21],[34,9,34,10],[29,2,29,8],[30,2,30,8],[22,15,22,16],[33,9,33,10],[23,14,23,16],[34,2,34,8],[29,9,29,10],[30,9,30,10],[33,2,33,8],[22,7,22,8],[22,9,22,10],[22,11,22,12],[22,13,22,14],[23,7,23,9],[23,2,23,5]]}
["様式第5号の3"]
["県民まちなみ緑化事業報告書"]
[]
["1　申請団体（者）について"]
["申請者","郵便番号",{"$f":"IF(入力シート!I60=\"\",\"\",IF(入力シート!I15=\"\",入力シート!I25&\"-\"&入力シート!L25,入力シート!I11&\"-\"&入力シート!L11))","v":""},{"$f":"IF(入力シート!J60=\"\",\"\",IF(入力シート!J15=\"\",入力シート!J25&\"-\"&入力シート!M25,入力シート!J11&\"-\"&入力シート!M11))","v":""},{"$f":"IF(入力シート!K60=\"\",\"\",IF(入力シート!K15=\"\",入力シート!K25&\"-\"&入力シート!N25,入力シート!K11&\"-\"&入力シート!N11))","v":""},{"$f":"IF(入力シート!L60=\"\",\"\",IF(入力シート!L15=\"\",入力シート!L25&\"-\"&入力シート!O25,入力シート!L11&\"-\"&入力シート!O11))","v":""},{"$f":"IF(入力シート!M60=\"\",\"\",IF(入力シート!M15=\"\",入力シート!M25&\"-\"&入力シート!P25,入力シート!M11&\"-\"&入力シート!P11))","v":""},{"$f":"IF(入力シート!N60=\"\",\"\",IF(入力シート!N15=\"\",入力シート!N25&\"-\"&入力シート!Q25,入力シート!N11&\"-\"&入力シート!Q11))","v":""},{"$f":"IF(入力シート!O60=\"\",\"\",IF(入力シート!O15=\"\",入力シート!O25&\"-\"&入力シート!R25,入力シート!O11&\"-\"&入力シート!R11))","v":""},{"$f":"IF(入力シート!P60=\"\",\"\",IF(入力シート!P15=\"\",入力シート!P25&\"-\"&入力シート!S25,入力シート!P11&\"-\"&入力シート!S11))","v":""},{"$f":"IF(入力シート!Q60=\"\",\"\",IF(入力シート!Q15=\"\",入力シート!Q25&\"-\"&入力シート!T25,入力シート!Q11&\"-\"&入力シート!T11))","v":""},{"$f":"IF(入力シート!R60=\"\",\"\",IF(入力シート!R15=\"\",入力シート!R25&\"-\"&入力シート!U25,入力シート!R11&\"-\"&入力シート!U11))","v":""},{"$f":"IF(入力シート!S60=\"\",\"\",IF(入力シート!S15=\"\",入力シート!S25&\"-\"&入力シート!V25,入力シート!S11&\"-\"&入力シート!V11))","v":""},{"$f":"IF(入力シート!T60=\"\",\"\",IF(入力シート!T15=\"\",入力シート!T25&\"-\"&入力シート!W25,入力シート!T11&\"-\"&入力シート!W11))","v":""},{"$f":"IF(入力シート!U60=\"\",\"\",IF(入力シート!U15=\"\",入力シート!U25&\"-\"&入力シート!X25,入力シート!U11&\"-\"&入力シート!X11))","v":""},null,{"$f":"IF(入力シート!V60=\"\",\"\",IF(入力シート!V15=\"\",入力シート!V25&\"-\"&入力シート!Y25,入力シート!V11&\"-\"&入力シート!Y11))","v":""},{"$f":"IF(入力シート!W60=\"\",\"\",IF(入力シート!W15=\"\",入力シート!W25&\"-\"&入力シート!Z25,入力シート!W11&\"-\"&入力シート!Z11))","v":""},{"$f":"IF(入力シート!X60=\"\",\"\",IF(入力シート!X15=\"\",入力シート!X25&\"-\"&入力シート!AA25,入力シート!X11&\"-\"&入力シート!AA11))","v":""},{"$f":"IF(入力シート!Y60=\"\",\"\",IF(入力シート!Y15=\"\",入力シート!Y25&\"-\"&入力シート!AB25,入力シート!Y11&\"-\"&入力シート!AB11))","v":""},{"$f":"IF(入力シート!Z60=\"\",\"\",IF(入力シート!Z15=\"\",入力シート!Z25&\"-\"&入力シート!AC25,入力シート!Z11&\"-\"&入力シート!AC11))","v":""},{"$f":"IF(入力シート!AA60=\"\",\"\",IF(入力シート!AA15=\"\",入力シート!AA25&\"-\"&入力シート!AD25,入力シート!AA11&\"-\"&入力シート!AD11))","v":"-"}]
[null,"住所",{"$f":"IF(入力シート!I27=\"\",入力シート!I13,入力シート!I27)","v":0}]
[null,"団体等名称",{"$f":"IF(入力シート!I15=\"\",\"\",入力シート!I15)","v":""}]
[null,"代表者職氏名",{"$f":"IF(入力シート!I29=\"\",入力シート!I17&\"　\"&入力シート!I19,入力シート!I29)","v":"　"}]
[null,"電話番号",{"$f":"IF(入力シート!I60=\"\",\"\",IF(入力シート!I20=\"\",入力シート!I30&\"-\"&入力シート!L30&\"-\"&入力シート!O30,入力シート!I20&\"-\"&入力シート!L20&\"-\"&入力シート!O20))","v":""}]
["申請者の\n連絡先","郵便番号",{"$f":"IF(入力シート!I33=\"\",\"\",入力シート!I33&\"-\"&入力シート!L33)","v":""}]
[null,"住所",{"$f":"入力シート!I34","v":0}]
[null,"担当者名",{"$f":"入力シート!I35","v":0}]
[null,"電話番号",{"$f":"入力シート!I36","v":0},null,null,null,null,null,null,"携帯電話",null,null,null,null,{"$f":"入力シート!I37","v":0}]
[null,"F A X番号",{"$f":"入力シート!I38","v":0},null,null,null,null,null,null,"メールアドレス",null,null,null,null,{"$f":"入力シート!I39","v":0}]
[]
["2　緑化内容等について"]
["実施箇所","所在地",{"$f":"IF(入力シート!I60=\"\",\"\",入力シート!AA61)","v":""}]
[null,"名称・概要",{"$f":"入力シート!I62","v":0}]
["緑化内容","□補助金交付申請時の事業計画からの変更の有無：",null,null,null,null,null,null,null,null,null,null,null,{"$f":"IF(入力シート!T91=\"\",\"（　有り　　無し　）\",\"（　\"&入力シート!T91&\"　）\")","v":"（　有り　　無し　）"}]
[null,"植栽の場合\n（樹木、多年草）","植樹本数",null,null,null,null,null,{"$f":"IF(入力シート!T80=\"\",\"　　　本\",TEXT(入力シート!T80,\"#,###\")&\"本\")","v":"　　　本"},{"$f":"IF(入力シート!J79=\"\",\"　　　本\",DBCS(TEXT(入力シート!J79,\"#,###\"))&\"本\")","v":"本本"},{"$f":"IF(入力シート!K79=\"\",\"　　　本\",DBCS(TEXT(入力シート!K79,\"#,###\"))&\"本\")","v":"　　　本"},{"$f":"IF(入力シート!L79=\"\",\"　　　本\",DBCS(TEXT(入力シート!L79,\"#,###\"))&\"本\")","v":"　　　本"},{"$f":"IF(入力シート!M79=\"\",\"　　　本\",DBCS(TEXT(入力シート!M79,\"#,###\"))&\"本\")","v":"　　　本"},{"$f":"IF(入力シート!N79=\"\",\"　　　本\",DBCS(TEXT(入力シート!N79,\"#,###\"))&\"本\")","v":"　　　本"},{"$f":"IF(入力シート!O79=\"\",\"　　　本\",DBCS(TEXT(入力シート!O79,\"#,###\"))&\"本\")","v":"　　　本"},null,{"$f":"IF(入力シート!P79=\"\",\"　　　本\",DBCS(TEXT(入力シート!P79,\"#,###\"))&\"本\")","v":"　　　本"},{"$f":"IF(入力シート!Q79=\"\",\"　　　本\",DBCS(TEXT(入力シート!Q79,\"#,###\"))&\"本\")","v":"低　木本"},{"$f":"IF(入力シート!R79=\"\",\"　　　本\",DBCS(TEXT(入力シート!R79,\"#,###\"))&\"本\")","v":"　　　本"},{"$f":"IF(入力シート!S79=\"\",\"　　　本\",DBCS(TEXT(入力シート!S79,\"#,###\"))&\"本\")","v":"　　　本"},{"$f":"IF(入力シート!T79=\"\",\"　　　本\",DBCS(TEXT(入力シート!T79,\"#,###\"))&\"本\")","v":"　　　本"},{"$f":"IF(入力シート!V79=\"\",\"　　　本\",DBCS(TEXT(入力シート!V79,\"#,###\"))&\"本\")","v":"本本"}]
[null,null,null,"（内訳：",null,null,"高木",{"$f":"IF(入力シート!T77=\"\",\"  本\",TEXT(入力シート!T77,\"#,###\"&\" 本\"))","v":"  本"},null,null,null,"中木",null,{"$f":"IF(入力シート!T78=\"\",\"  本\",TEXT(入力シート!T78,\"#,###\")&\" 本\")","v":"  本"},null,null,null,"低木",null,{"$f":"IF(入力シート!T79=\"\",\"  本）\",TEXT(入力シート!T79,\"#,###\")&\" 本　）\")","v":"  本）"}]
[null,null,"プランター設置数",null,null,null,null,null,null,{"$f":"IF(入力シート!T81=\"\",\"　　　基\",TEXT(入力シート!T81,\"#,###\")&\"基\")","v":"　　　基"}]
[null,null,null,"（内訳：",null,null,"高木",{"$f":"IF(入力シート!T82=\"\",\"  本\",TEXT(入力シート!T82,\"#,###\"&\" 本\"))","v":"  本"},null,"中木",null,{"$f":"IF(入力シート!T83=\"\",\"  本\",TEXT(入力シート!T83,\"#,###\")&\" 本\")","v":"  本"},null,"低木",null,{"$f":"IF(入力シート!T84=\"\",\"  本\",TEXT(入力シート!T84,\"#,###\"&\" 本\"))","v":"  本"},null,"多年草",null,{"$f":"IF(入力シート!T85=\"\",\"有・無\",入力シート!T85)","v":"有・無"},null,"）"]
[null,null,"緑地面積",null,null,null,null,{"$f":"IF(INT(入力シート!T86)=入力シート!T86,TEXT(入力シート!T86,\"#,###\"),TEXT(ROUNDDOWN(入力シート!T86,2),\"#,###.##\"))","v":""},null,null,"㎡","（樹木",null,null,{"$f":"IF(入力シート!T87=\"　　㎡\",\"\",入力シート!T87&\"㎡\")","v":"㎡"},null,null,"多年草",null,{"$f":"IF(入力シート!T88=\"\",\"　　㎡）\",入力シート!T88&\"㎡）\")","v":"　　㎡）"}]
[null,"芝生化の場合","芝生化面積",null,null,null,null,{"$f":"IF(INT(入力シート!T90)=入力シート!T90,TEXT(入力シート!T90,\"#,###\"),TEXT(ROUNDDOWN(入力シート!T90,2),\"#,###.##\"))","v":""},null,null,"㎡"]
["事業期間",null,{"$f":"IF(入力シート!I67=\"\",\"令和　　　年　　　月　　　日　～　令和　　　年　　　月　　　日\",\"令和 \"&入力シート!P73&\" 年 \"&入力シート!R73&\" 月 \"&入力シート!T73&\" 日　～　令和 \"&入力シート!P74&\" 年 \"&入力シート!R74&\" 月 \"&入力シート!T74&\" 日\")","v":"令和　　　年　　　月　　　日　～　令和　　　年　　　月　　　日"}]
[]
[]
["3　所要額精算報告"]
["①　総　事　業　費",null,null,null,null,null,null,null,null,"円"]
["②　補助対象経費",null,null,null,null,null,null,null,null,"円"]
["③　実 績 報 告 額",null,{"$f":"入力シート!O72","v":0},null,null,null,null,null,null,"円"]
["　　（交付決定額）",null,"（",{"$f":"入力シート!E72","v":0},null,null,null,null,null,"円）"]
["④　概算払による既受領額",null,null,null,null,null,null,null,null,"円"]
["⑤　精算額（受領見込み補助金額）",null,{"$f":"IF(C32-C34=0,\"0\",C32-C34)","v":"0"},null,null,null,null,null,null,"円"]

{"sheet":"補助金支払請求書","index":8,"n_rows":36,"n_cols":35,"rows_kept":36,"cut":false,"hidden":false,"merged":[[28,0,28,34],[26,17,26,21],[23,22,23,34],[24,22,24,34],[25,0,26,5],[23,0,23,5],[24,0,24,5],[26,22,26,34],[25,6,26,16],[24,17,24,21],[25,22,25,34],[23,6,23,16],[24,6,24,16],[25,17,25,21],[7,12,7,16],[10,12,10,16],[21,0,21,34],[17,0,17,34],[23,17,23,21],[19,9,19,26],[11,31,11,33],[14,31,14,33],[12,23,12,34],[11,17,11,21],[11,29,11,30],[15,17,15,21],[14,17,14,21],[13,23,13,34],[13,17,13,21],[12,17,12,21],[2,22,2,34],[10,23,10,34],[10,17,10,21],[9,23,9,34],[9,17,9,21],[8,23,8,34],[8,17,8,21],[7,23,7,34],[7,17,7,21],[14,29,14,30],[14,26,14,27],[15,23,15,34],[13,12,13,16],[11,22,11,23],[14,22,14,23],[11,24,11,25],[11,26,11,27],[14,24,14,25]]}
["様式第６号（第１０条、第１２条の２関係）"]
[]
[null,null,null,null,null,null,null,null,null,null,null,null,null,null,null,null,null,null,null,null,null,null,"令和　　　年　　　月　　　日"]
[]
[null,{"$f":"IF(OR(入力シート!I67=\"一般緑化\",入力シート!I67=\"校園庭の芝生化\",入力シート!I67=\"ひろばの芝生化\"),入力シート!AA67&\"　様\",\" 兵庫県知事　様\")","v":" 兵庫県知事　様"}]
[null,{"$f":"IF(入力シート!I67=\"\",\"（県民局長）\",\"（市町経由）\")","v":"（県民局長）"}]
[null,{"$f":"IF(入力シート!I67=\"\",\"（県民センター長）\",\"\")","v":"（県民センター長）"}]
[null,null,null,null,null,null,null,null,null,null,null,null,"（請求者）",null,null,null,null,"住所",null,null,null,null,null,{"$f":"IF(入力シート!I13=\"\",入力シート!I27,入力シート!I13)","v":0}]
[null,null,null,null,null,null,null,null,null,null,null,null,null,null,null,null,null,"団体等名称",null,null,null,null,null,{"$f":"IF(入力シート!I15=\"\",\"\",入力シート!I15)","v":""}]
[null,null,null,null,null,null,null,null,null,null,null,null,null,null,null,null,null,"代表者職氏名",null,null,null,null,null,{"$f":"IF(入力シート!I19=\"\",入力シート!I29,入力シート!I17&\"　\"&入力シート!I19)","v":0}]
[null,null,null,null,null,null,null,null,null,null,null,null,"（発行責任者）",null,null,null,null,"氏名",null,null,null,null,null,{"$f":"入力シート!I42","v":0}]
[null,null,null,null,null,null,null,null,null,null,null,null,null,null,null,null,null,"電話",null,null,null,null,"（",null,{"$f":"入力シート!O42","v":0},null,"）",null,{"$f":"入力シート!Q42","v":0},"－",null,{"$f":"入力シート!S42","v":0},null,null,"番"]
[null,null,null,null,null,null,null,null,null,null,null,null,null,null,null,null,null,"電子メール",null,null,null,null,null,{"$f":"入力シート!O43","v":0}]
[null,null,null,null,null,null,null,null,null,null,null,null,"（担当者）",null,null,null,null,"氏名",null,null,null,null,null,{"$f":"入力シート!I44","v":0}]
[null,null,null,null,null,null,null,null,null,null,null,null,null,null,null,null,null,"電話",null,null,null,null,"（",null,{"$f":"入力シート!O44","v":0},null,"）",null,{"$f":"入力シート!Q44","v":0},"－",null,{"$f":"入力シート!S44","v":0},null,null,"番"]
[null,null,null,null,null,null,null,null,null,null,null,null,null,null,null,null,null,"電子メール",null,null,null,null,null,{"$f":"入力シート!O45","v":0}]
[]
["県民まちなみ緑化事業補助金支払請求書"]
[]
[null,null,null,null,null,null,null,null,null,{"$f":"IF(入力シート!O72=\"\",\" 金　　　　　　　　　　　　　円也 \",\" 金\"&DBCS(TEXT(入力シート!O72,\"＃，＃＃＃\"))&\"円也 \")","v":" 金　　　　　　　　　　　　　円也 "}]
[]
["　上記のとおり、県民まちなみ緑化事業実施要領第１０条第１項（第１２条の２第２項）の規定に基づき、請求します。なお、補助金は下記金融機関口座に振り込み願います。"]
[]
["金融機関名",null,null,null,null,null,{"$f":"入力シート!I48&入力シート!N48","v":"銀行"},null,null,null,null,null,null,null,null,null,null,"預金の種類",null,null,null,null,{"$f":"IF(入力シート!I53=\"\",\"普通　当座　その他（　　　）\",IF(入力シート!I53=\"その他\",入力シート!L54,入力シート!I53))","v":"普通　当座　その他（　　　）"}]
["支店名",null,null,null,null,null,{"$f":"入力シート!I51&入力シート!N51","v":"支店"},null,null,null,null,null,null,null,null,null,null,"口座番号",null,null,null,null,{"$f":"入力シート!I57","v":0}]
["支店番号",null,null,null,null,null,{"$f":"入力シート!I52","v":0},null,null,null,null,null,null,null,null,null,null,"（フリガナ）",null,null,null,null,{"$f":"入力シート!I55","v":0}]
[null,null,null,null,null,null,null,null,null,null,null,null,null,null,null,null,null,"口座名義人",null,null,null,null,{"$f":"入力シート!I56","v":0}]
[]
["※概算払の場合、施工状況の分かる写真を添付してください。\n※振込先がゆうちょ銀行の場合、「支店名」欄、「支店番号」欄、「口座番号」欄には、通帳の\n　冒頭部の「銀行使用欄」に記載されている「店名」、「店番」、「口座番号」を記載してくだ\n  さい。"]
[]
[]
["※県記入欄（これより下は記入しないでください。）"]
["・補助金交付決定額",null,null,null,null,null,null,null,null,null,null,null,null,null,null,"円（概算払のとき）",null,null,null,null,null,null,"　　年　　月　　日　　　第　　　 号"]
["・補助金確定額",null,null,null,null,null,null,null,null,null,null,null,null,null,null,"円（精算払のとき）",null,null,null,null,null,null,"　　年　　月　　日　　　第　　　 号"]
["・既受領額",null,null,null,null,null,null,null,null,null,null,null,null,null,null,"円"]
["・今回請求額",null,null,null,null,null,null,null,null,null,null,null,null,null,null,"円"]

{"sheet":"変更交付申請書","index":9,"n_rows":48,"n_cols":35,"rows_kept":48,"cut":false,"hidden":false,"merged":[[31,1,32,34],[11,14,11,18],[12,14,12,18],[12,20,12,34],[25,0,30,34],[14,0,14,34],[11,21,11,23],[11,33,11,34],[20,0,20,14],[10,14,10,18],[22,0,22,34],[16,0,16,34],[18,0,18,34],[19,0,19,34],[10,20,10,34],[11,30,11,32],[11,28,11,29],[11,25,11,27],[2,24,2,34],[9,14,9,18],[7,14,7,18],[8,20,8,34],[9,20,9,34],[8,14,8,18]]}
["様式第８号の１（第１３条関係）"]
[]
[null,null,null,null,null,null,null,null,null,null,null,null,null,null,null,null,null,null,null,null,null,null,null,null,"令和　　年　　月　　日"]
[]
[null,{"$f":"IF(OR(入力シート!I67=\"一般緑化\",入力シート!I67=\"校園庭の芝生化\",入力シート!I67=\"ひろばの芝生化\"),入力シート!AA67&\"　様\",\" 兵庫県知事　様\")","v":" 兵庫県知事　様"}]
[null,{"$f":"IF(入力シート!I67=\"\",\"（県民局長）\",\"\")","v":"（県民局長）"}]
[null,{"$f":"IF(入力シート!I67=\"\",\"（県民センター長）\",\"\")","v":"（県民センター長）"},null,null,null,null,null,null,null,null,null,null,null,null,null,null,null,0]
[null,null,null,null,null,null,null,null,null,null,null,null,null,null,"（申請者）"]
[null,null,null,null,null,null,null,null,null,null,null,null,null,null,"住所",null,null,null,null,null,{"$f":"IF(入力シート!I13=\"\",入力シート!I27,入力シート!I13)","v":0}]
[null,null,null,null,null,null,null,null,null,null,null,null,null,null,"団体等名称",null,null,null,null,null,{"$f":"IF(入力シート!I15=\"\",\"\",入力シート!I15)","v":""}]
[null,null,null,null,null,null,null,null,null,null,null,null,null,null,"代表者職氏名",null,null,null,null,null,{"$f":"IF(入力シート!I19=\"\",入力シート!I29,入力シート!I17&\"　\"&入力シート!I19)","v":0}]
[null,null,null,null,null,null,null,null,null,null,null,null,null,null,"電話",null,null,null,null,null,"(",{"$f":"IF(入力シート!I20=\"\",入力シート!I30,入力シート!I20)","v":0},null,null,"）",{"$f":"IF(入力シート!L20=\"\",入力シート!L30,入力シート!L20)","v":0},null,null,"－",null,{"$f":"IF(入力シート!O20=\"\",入力シート!O30,入力シート!O20)","v":0},null,null,"番"]
[null,null,null,null,null,null,null,null,null,null,null,null,null,null,"電子メール",null,null,null,null,null,{"$f":"IF(入力シート!I21=\"\",入力シート!I31,入力シート!I21)","v":0}]
[]
["県民まちなみ緑化事業補助金変更交付申請書"]
[]
["　令和　　　年　　　月　　　日付け　　　第　　　　　号により補助金交付決定通知のあった"]
[null,null,null,null,null,null,null,null,null,null,null,null,null,null,null,null,null,null,null,null,null,null,null,null,null,"（",null,null,null,null,null,null,null,null,"）"]
["県民まちなみ緑化事業の内容を下記のとおり変更し、補助金　　　　　　　　　　　  円"]
["の交付を受けたいので、承認願いたく県民まちなみ緑化事業実施要領第１３条第１項"]
["の規定に基づき、申請します。"]
[]
["記"]
[]
["変更の内容と理由"]
[]
[]
[]
[]
[]
[]
["※","　補助金の額を変更する場合は、変更前の額を上段に（　）書で記入し、変更後の額をその下段に記入すること。"]
[]
[]
[]
[null,"（添付書類）交付申請時から変更のあったもののみ提出してください。"]
[null,"① 県民まちなみ緑化事業計画書（様式第１号の３）"]
[null,null,"（都心緑化の場合、都心緑化計画を添付すること）"]
[null,"② 実施箇所の位置図、現況写真"]
[null,"③ 計画図、数量計算書"]
[null,"④ 土地・建築物所有者の使用承諾書兼維持管理協定書の写し"]
[null,"　 （自己の所有に属しない土地又は建築物において事業を実施しようとする場合のみ必要）"]
[null,"⑤ 業者からの見積書の写し（１社。経費の内訳が分かる書類を添付してください。）"]
[]
[]
["　　同一敷地で複数の補助の種別を実施する場合、その複数の種別をまとめて申請することもできます。"]
["　　その場合、交付申請額は合計額及び補助種別ごとの内訳を記入してください。"]
["　　また、数量計算書や見積書は補助種別ごとに内訳が確認できるものを添付してください。"]

{"sheet":"中止承認申請書","index":10,"n_rows":24,"n_cols":33,"rows_kept":24,"cut":false,"hidden":false,"merged":[[2,23,2,33],[9,19,9,33],[10,13,10,17],[10,19,10,33],[12,32,12,33],[12,29,12,31],[8,13,8,17],[9,13,9,17],[24,0,30,33],[15,0,15,33],[18,0,19,33],[12,20,12,22],[11,19,11,33],[12,13,12,17],[21,0,21,33],[13,13,13,17],[11,13,11,17],[12,27,12,28],[13,19,13,33],[12,24,12,26]]}
["様式第８号の３（第１４条関係）"]
[]
[null,null,null,null,null,null,null,null,null,null,null,null,null,null,null,null,null,null,null,null,null,null,null,"令和　　年　　月　　日"]
[]
[null,{"$f":"IF(OR(入力シート!I67=\"一般緑化\",入力シート!I67=\"校園庭の芝生化\",入力シート!I67=\"ひろばの芝生化\"),入力シート!AA67&\"　様\",\" 兵庫県知事　様\")","v":" 兵庫県知事　様"}]
[null,{"$f":"IF(入力シート!I67=\"\",\"（県民局長）\",\"（市町経由）\")","v":"（県民局長）"}]
[null,{"$f":"IF(入力シート!I67=\"\",\"（県民センター長）\",\"\")","v":"（県民センター長）"}]
[null,{"$f":"IF(入力シート!I67=\"\",\"（市町経由）\",\"\")","v":"（市町経由）"}]
[null,null,null,null,null,null,null,null,null,null,null,null,null,"（申請者）"]
[null,null,null,null,null,null,null,null,null,null,null,null,null,"住所",null,null,null,null,null,{"$f":"IF(入力シート!I13=\"\",入力シート!I27,入力シート!I13)","v":0}]
[null,null,null,null,null,null,null,null,null,null,null,null,null,"団体等名称",null,null,null,null,null,{"$f":"IF(入力シート!I15=\"\",\"\",入力シート!I15)","v":""}]
[null,null,null,null,null,null,null,null,null,null,null,null,null,"代表者職氏名",null,null,null,null,null,{"$f":"IF(入力シート!I19=\"\",入力シート!I29,入力シート!I17&\"　\"&入力シート!I19)","v":0}]
[null,null,null,null,null,null,null,null,null,null,null,null,null,"電話",null,null,null,null,null,"(",{"$f":"IF(入力シート!I20=\"\",入力シート!I30,入力シート!I20)","v":0},null,null,"）",{"$f":"IF(入力シート!L20=\"\",入力シート!L30,入力シート!L20)","v":0},null,null,"－",null,{"$f":"IF(入力シート!O20=\"\",入力シート!O30,入力シート!O20)","v":0},null,null,"番"]
[null,null,null,null,null,null,null,null,null,null,null,null,null,"電子メール",null,null,null,null,null,{"$f":"IF(入力シート!I21=\"\",入力シート!I31,入力シート!I21)","v":0}]
[]
["県民まちなみ緑化事業中止承認申請書"]
[]
[]
["　　　　　年　　月　　日付け　　第　　　　号により補助金交付決定のあった県民まちなみ緑化事業については、下記のとおり中止したいので、承認願いたく県民まちなみ緑化事業実施要領第１４条第１項の規定に基づき、申請します。"]
[]
[]
["記"]
[]
["中止の理由"]

{"sheet":"市町等","index":11,"n_rows":41,"n_cols":3,"rows_kept":41,"cut":false,"hidden":true,"merged":[]}
["神戸市","兵庫県知事"]
["姫路市","中播磨県民センター長"]
["尼崎市","阪神北県民局長"]
["明石市","東播磨県民局長"]
["西宮市","阪神北県民局長"]
["洲本市","淡路県民局長"]
["芦屋市","阪神北県民局長"]
["伊丹市","阪神北県民局長"]
["相生市","中播磨県民センター長"]
["豊岡市","但馬県民局長"]
["加古川市","東播磨県民局長"]
["たつの市","中播磨県民センター長"]
["赤穂市","中播磨県民センター長"]
["西脇市","北播磨県民局長"]
["宝塚市","阪神北県民局長"]
["三木市","阪神北県民局長"]
["高砂市","東播磨県民局長"]
["川西市","阪神北県民局長"]
["小野市","北播磨県民局長"]
["三田市","阪神北県民局長"]
["加西市","北播磨県民局長"]
["丹波篠山市","丹波県民局長"]
["養父市","但馬県民局長"]
["丹波市","丹波県民局長"]
["南あわじ市","淡路県民局長"]
["朝来市","但馬県民局長"]
["淡路市","淡路県民局長"]
["宍粟市","中播磨県民センター長"]
["加東市","北播磨県民局長"]
["猪名川町","阪神北県民局長","川辺郡"]
["多可町","北播磨県民局長","多可郡"]
["稲美町","東播磨県民局長","加古郡"]
["播磨町","東播磨県民局長","加古郡"]
["神河町","中播磨県民センター長","神崎郡"]
["市川町","中播磨県民センター長","神崎郡"]
["福崎町","中播磨県民センター長","神崎郡"]
["太子町","中播磨県民センター長","揖保郡"]
["上郡町","中播磨県民センター長","赤穂郡"]
["佐用町","中播磨県民センター長","佐用郡"]
["香美町","但馬県民局長","美方郡"]
["新温泉町","但馬県民局長","美方郡"]